BEGIN:VCALENDAR
VERSION:2.0
PRODID:-//Da Janela - ECPv6.15.20//NONSGML v1.0//EN
CALSCALE:GREGORIAN
METHOD:PUBLISH
X-ORIGINAL-URL:https://dajanela.com.br
X-WR-CALDESC:Eventos para Da Janela
REFRESH-INTERVAL;VALUE=DURATION:PT1H
X-Robots-Tag:noindex
X-PUBLISHED-TTL:PT1H
BEGIN:VTIMEZONE
TZID:America/Sao_Paulo
BEGIN:STANDARD
TZOFFSETFROM:-0300
TZOFFSETTO:-0300
TZNAME:-03
DTSTART:20250101T000000
END:STANDARD
END:VTIMEZONE
BEGIN:VEVENT
DTSTART;VALUE=DATE:20260424
DTEND;VALUE=DATE:20260427
DTSTAMP:20260424T014547
CREATED:20260423T212943Z
LAST-MODIFIED:20260423T213054Z
UID:8123-1776988800-1777247999@dajanela.com.br
SUMMARY:Piracicaba te convida: cultura e aprendizado de graça!
DESCRIPTION:Tem tanta coisa boa rolando em Piracicaba que não custa nada para você aproveitar. De poesia que se move a roteiros históricos e documentários que abrem a mente\, a cidade está repleta de oportunidades para aprender e se inspirar sem gastar um centavo. \nSe você tá em Piracicaba e quer mergulhar em arte e conhecimento\, este é o seu guia. Preparamos uma seleção especial com eventos que celebram a cultura local\, a memória e temas super relevantes\, todos com entrada franca. É a chance perfeita para expandir seus horizontes e curtir o melhor que a cidade tem a oferecer. \nAdemir Assunção: Poemas Cinéticos no SESC Piracicaba\nPrepare-se para ver a poesia ganhar vida! O SESC Piracicaba traz a exibição dos Poemas Cinéticos de Ademir Assunção\, um convite para transpor a palavra impressa para a linguagem audiovisual. É uma chance única de experimentar a poesia em movimento\, explorando a potência da linguagem e dialogando com as vanguardas literárias. Se você curte experimentação e novas formas de expressão\, essa é pra você. \n\nQuando: 26 de abril\, domingos\nOnde: SESC Piracicaba\nIngresso: Entrada franca\nMais info: Link\n\nCemitério da Saudade: Roteiro Cultural e Histórico em Piracicaba\nQuer conhecer Piracicaba de um jeito diferente? O SESC te leva para um roteiro cultural e histórico pelo Cemitério da Saudade. É uma caminhada para desvendar a memória da cidade\, conhecendo os sepulcros de personalidades que fizeram história em Piracicaba e no Brasil. Uma aula a céu aberto sobre o patrimônio artístico e cultural\, ideal para quem gosta de mergulhar nas raízes da cidade. \n\nQuando: 25 de abril\, sábado\nOnde: SESC Piracicaba\nIngresso: Entrada franca\nMais info: Link\n\nMobiliza: Festa Cultural da Periferia no SESC Piracicaba\nA periferia de Piracicaba mostra sua força e criatividade no Mobiliza: Festa Cultural da Periferia. O SESC promove um evento que destaca danças e atividades culturais locais\, celebrando a diversidade e a arte comunitária. É a oportunidade perfeita para conhecer e valorizar as expressões culturais que emergem da região\, fortalecendo a identidade e o senso de pertencimento. Se você curte festa\, comunidade e cultura autoral\, não perca! \n\nQuando: 15 a 25 de abril\nOnde: SESC Piracicaba\nIngresso: Entrada franca (retirar senhas 30 minutos antes)\nMais info: Link\n\nDuas Vezes Colonizada – Documentário sobre Ativista Inuíte no SESC Piracicaba\nPrepare-se para um documentário impactante. O SESC Piracicaba exibe Duas Vezes Colonizada\, filme que acompanha a trajetória de Aaju Peter\, advogada e ativista inuíte que luta pelos direitos humanos dos povos indígenas do Ártico. É uma obra que provoca reflexão sobre colonização\, justiça e autodeterminação. Se você se interessa por temas como ancestralidade\, resistência e direitos humanos\, este filme é imperdível. \n\nQuando: 26 de abril\nOnde: SESC Piracicaba\nIngresso: Entrada franca (retirar ingressos 1h antes)\nMais info: Link\n\nRealidade Virtual e Mista: explore o Cerrado e Rio Piracicaba no SESC\nQue tal explorar o Cerrado e o Rio Piracicaba de uma forma totalmente nova? O SESC Piracicaba te convida para uma imersão em realidade virtual e mista. É a combinação perfeita de tecnologia e educação ambiental\, oferecendo novas perspectivas sobre a biodiversidade e a importância da preservação desses territórios. Ideal para quem curte tecnologia\, natureza e quer aprender sobre conservação. \n\nQuando: 18 a 26 de abril (terças\, sábados e domingos)\nOnde: SESC Piracicaba\nIngresso: Entrada franca\nMais info: Link\n\nViu só? Piracicaba está cheia de atrações gratuitas que misturam arte\, história\, tecnologia e muita reflexão. Escolha o seu programa\, reúna os amigos e aproveite ao máximo tudo que a cidade tem a oferecer. A cultura está te esperando\, e o melhor: sem pesar no bolso!
URL:https://dajanela.com.br/event/piracicaba-te-convida-cultura-e-aprendizado-de-graca/
CATEGORIES:O que fazer
ATTACH;FMTTYPE=image/webp:https://dajanela.com.br/wp-content/uploads/2026/04/mobiliza_festa_cultural_da_pe-1.webp
END:VEVENT
BEGIN:VEVENT
DTSTART;VALUE=DATE:20260424
DTEND;VALUE=DATE:20260429
DTSTAMP:20260424T014547
CREATED:20260423T213718Z
LAST-MODIFIED:20260423T213718Z
UID:8126-1776988800-1777420799@dajanela.com.br
SUMMARY:Piracicaba: sons\, palavras e memória te esperam neste fim de mês
DESCRIPTION:Prepare-se para um fim de semana em Piracicaba recheado de música\, poesia e reflexão. De sexta a domingo\, a cidade pulsa com eventos que celebram a cultura brasileira\, a força da palavra e a memória\, com opções para quem ama MPB\, para quem se encanta com a poesia e para quem quer mergulhar em narrativas que ressoam com a identidade local. \nDu Rompa Hammond Trio: Documentário e Vinil duplo \nO Casarão Music Studio se transforma no palco de um evento imperdível para os amantes de música e arte em Piracicaba. O Du Rompa Hammond Trio lança seu álbum duplo ao vivo\, O Beijo da Serpente – O Ritual\, e exibe um documentário inédito sobre o processo criativo. Mergulhe nas narrativas simbólicas\, mitologias e na sonoridade experimental que caracterizam o trabalho do trio. A programação é extensa\, começando à tarde com a apreciação do vinil\, seguida por um bate-papo\, discotecagem\, a exibição do documentário e uma jam session para fechar a noite com chave de ouro. Uma imersão completa no universo do Du Rompa Hammond Trio. \n\nQuando: 25 de abril\, sábado\nOnde: Casarão Music Studio\, R. Treze de Maio\, 283\, Piracicaba – SP\nIngresso: R$ 28\,99\nMais info: Link\n\nCeta em Piracicaba: Botas! no Engenho Central\nPara quem aprecia teatro com força e relevância\, o Engenho Central em Piracicaba recebe o espetáculo Botas!\, da Companhia Estável de Teatro Amador de Piracicaba (Cia. CETA). Inspirada nas obras de Nelson Rodrigues e Plínio Marcos\, a peça traz à tona a força feminina\, abordando as violências\, contradições e heranças de um sistema social que molda os destinos. É uma dramaturgia original que convida à reflexão sobre o corpo\, a memória e a resistência. Uma oportunidade para o público piracicabano se conectar com narrativas potentes e atuais. \n\nQuando: 25 de abril\, sábado\nOnde: Teatro Erotides de Campos\, Engenho Central\, Piracicaba\nIngresso: Entrada franca\nMais info: Link\n\nLiterando: Desvendando Memórias Póstumas de Brás Cubas \nSe você está se preparando para o vestibular ou simplesmente tem curiosidade sobre as grandes obras da literatura brasileira\, o SESC Piracicaba tem um convite especial. O projeto Literando desembarca na cidade para descomplicar os clássicos exigidos nos exames. Nesta edição\, o foco é em Memórias Póstumas de Brás Cubas\, a obra-prima de Machado de Assis. Prepare-se para uma análise aprofundada\, troca de ideias e momentos de pura imersão literária. É a chance de entender os meandros dessa narrativa icônica de um jeito acessível e envolvente. \n\nQuando: 28 de abril\, terça-feira\nOnde: SESC Piracicaba\nIngresso: Entrada franca\nMais info: Link\n\nSarau da Alice: Música e Gastronomia para aquecer a alma\nPara quem busca uma noite especial\, que une o prazer da boa música com a delícia da gastronomia\, o Sarau da Alice é o lugar. A cantora e multi-instrumentista Alice Passos\, com sua vasta experiência e colaborações com grandes nomes da MPB\, apresenta o show “Cantilena Alada”. Prepare-se para um repertório que evoca orações e preces\, com canções de artistas como Djavan\, Gilberto Gil e outros mestres da música brasileira. O evento começa mais cedo\, com opções gastronômicas para todos os gostos (pagas à parte)\, e a partir das 20h\, a música toma conta. É uma oportunidade de curtir um som intimista e autoral em Piracicaba. \n\nQuando: 25 de abril\, sábado\nOnde: Casa dos Del Gaudio Passos\nIngresso: R$ 66\,00 (ingresso sem consumação)\nMais info: Link\n\nEste fim de semana em Piracicaba é um convite para você se deixar levar pela diversidade de sons e palavras. Escolha sua trilha sonora\, mergulhe nas histórias e aproveite tudo o que a cidade tem a oferecer.
URL:https://dajanela.com.br/event/piracicaba-sons-palavras-e-memoria-te-esperam-neste-fim-de-mes/
CATEGORIES:O que fazer
ATTACH;FMTTYPE=image/webp:https://dajanela.com.br/wp-content/uploads/2026/04/espetaculo_botas_da_ceta_no_e.webp
END:VEVENT
BEGIN:VEVENT
DTSTART;VALUE=DATE:20260424
DTEND;VALUE=DATE:20260427
DTSTAMP:20260424T014547
CREATED:20260423T212456Z
LAST-MODIFIED:20260423T213134Z
UID:8121-1776988800-1777247999@dajanela.com.br
SUMMARY:O que fazer em Piracicaba no fim de semana: arte\, tradição e emoção
DESCRIPTION:De sexta a domingo\, Piracicaba pulsa com performances que celebram a brasilidade\, poesia em movimento e espetáculos para toda a família. Uma programação rica e variada pra você curtir na cidade! \nSe você tá em Piracicaba e quer aproveitar o fim de semana com cultura\, opções não faltam\, e o melhor: muitas com entrada franca! Prepare-se para dias repletos de arte\, tradição e momentos que tocam a alma. As apresentações celebram as raízes brasileiras\, exploram a profundidade da poesia e trazem diversão garantida para todas as idades. É a chance perfeita para se reconectar com a cidade e descobrir novas experiências. \nForró no Engenho: cultura nordestina com Trio Sudestino e Trio Cristalino em Piracicaba\nO Engenho Central vai ser o palco para celebrar a rica cultura nordestina neste sábado\, 25 de abril. O evento transforma o espaço em um verdadeiro ponto de encontro com a alma do Nordeste. Prepare-se para dançar ao som do Trio Sudestino\, que traz releituras criativas do forró tradicional\, e do Trio Cristalino\, com uma trajetória consolidada desde 1992. A voz de Val Santos também vai animar o público\, garantindo diversidade sonora incrível. Além da música\, você poderá curtir delícias gastronômicas em food trucks que complementam a imersão. É a chance de viver a pluralidade do Brasil sem sair de Piracicaba. \nQuando: 25 de abril\nOnde: Engenho Central\nIngresso: Entrada franca (consumo pago)\nMais informações \nEspetáculo “Inunda-me” – Busca por memória e desespero no SESI Piracicaba\nO Ponto de Cultura Garapa apresenta o espetáculo “Inunda-me”\, uma obra tocante que mergulha na busca de uma mãe por seu filho perdido. Inspirada em textos de Susan Sontag e Valter Hugo Mãe\, a peça explora o desespero\, o cansaço e a solidão de uma mulher que procura incansavelmente por uma memória diluída na água. É uma narrativa intensa sobre amor\, alucinação e a força de uma busca sem fim. A peça conta com recursos de acessibilidade\, como áudiodescrição e Libras. \nQuando: 25 de abril\, sábado\nOnde: Garapa – Terrirório Andaime (Rua Dom Pedro II\, Centro\, Piracicaba)\nIngresso: Entrada franca\nMais informações \nArado – Aboio – Auto: Performance duracional de Carolina Moya no Sesc Piracicaba\nPrepare-se para uma experiência imersiva com a performance duracional Arado – Aboio – Auto\, da artista Carolina Moya\, no Sesc Piracicaba. A obra é inspirada nas memórias da artista com a terra\, o trabalho e figuras emblemáticas do folclore brasileiro. A performance se desdobra em três atos\, explorando a conexão de Carolina com a cultura popular e suas vivências\, começando na praça interna do Sesc e se estendendo até o Largo dos Pescadores. É uma oportunidade única de sentir a cidade e a brasilidade de uma forma diferente. \nQuando: 26 de abril\nOnde: Sesc Piracicaba (início na praça interna\, seguindo para o Largo dos Pescadores)\nIngresso: Entrada franca\nMais informações  \nPalhaço Tomate – Show de Balões\, Magia e Comédia no SESC Piracicaba\nDiversão garantida para toda a família com o show Tomate\, Puro Tomate no SESC Piracicaba. O Palhaço Tomate combina manipulação de balões\, comédia\, magia e malabarismo em uma performance original e divertida. O espetáculo transita entre o inocente e o ácido\, convidando a plateia a refletir sobre questões sociais através do riso. Prepare-se para momentos de fascinação\, emoção e muita participação do público. É a arte circense encontrando a crítica social de forma acessível e cativante. \nQuando: 25 de abril\nOnde: SESC Piracicaba\nIngresso: Entrada franca\nMais informações \nUm Dia Muito Especial: Reynaldo Gianecchini e Maria Casadevall em Piracicaba\nA peça teatral Um Dia Muito Especial\, inspirada na obra de Ettore Scola e Ruggero Maccari\, chega ao Teatro Municipal Dr. Losso Netto em Piracicaba. Com direção e adaptação de Alexandre Reinecke\, o espetáculo traz no elenco os talentosos Reynaldo Gianecchini\, Maria Casadevall e Carolina Stofella. A montagem narra uma história emocionante sobre conexão\, sensibilidade e a força transformadora dos encontros na vida das pessoas. Uma oportunidade imperdível para curtir um teatro de qualidade com grandes nomes.\nAtenção: ingressos esgotados. Se você não comprou\, talvez consiga alguma desistência \nQuando: 25 e 26 de abril\nOnde: Teatro Municipal Dr. Losso Netto\, Piracicaba\nIngresso: Entrada franca\nMais informações
URL:https://dajanela.com.br/event/o-que-fazer-em-piracicaba-no-fim-de-semana-arte-tradicao-e-emocao/
CATEGORIES:O que fazer
ATTACH;FMTTYPE=image/webp:https://dajanela.com.br/wp-content/uploads/2026/04/espetaculo_inunda-me_-_busca.webp
END:VEVENT
END:VCALENDAR